
BEGIN:VCALENDAR
VERSION:2.0
PRODID:-//Danny Coots - ECPv4.0.4//NONSGML v1.0//EN
CALSCALE:GREGORIAN
METHOD:PUBLISH
X-WR-CALNAME:Danny Coots
X-ORIGINAL-URL:https://dannycoots.com
X-WR-CALDESC:Events for Danny Coots
BEGIN:VEVENT
DTSTART;VALUE=DATE:20190429
DTEND;VALUE=DATE:20190601
DTSTAMP:20260419T154715
CREATED:20190127
LAST-MODIFIED:20190127
UID:1373-1556496000-1559433599@dannycoots.com
SUMMARY:Scott Joplin International Ragtime festival
DESCRIPTION:
URL:https://dannycoots.com/event/scott-joplin-international-ragtime-festival-2
LOCATION:Sedalia\, MO\, United States
END:VEVENT
END:VCALENDAR