
BEGIN:VCALENDAR
VERSION:2.0
PRODID:-//Danny Coots - ECPv4.0.4//NONSGML v1.0//EN
CALSCALE:GREGORIAN
METHOD:PUBLISH
X-WR-CALNAME:Danny Coots
X-ORIGINAL-URL:https://dannycoots.com
X-WR-CALDESC:Events for Danny Coots
BEGIN:VEVENT
DTSTART;VALUE=DATE:20190615
DTEND;VALUE=DATE:20190615
DTSTAMP:20260419T174008
CREATED:20190604
LAST-MODIFIED:20190604
UID:1466-1560556800-1560643199@dannycoots.com
SUMMARY:Private Event Nashville
DESCRIPTION:
URL:https://dannycoots.com/event/private-event-nashville-2
END:VEVENT
END:VCALENDAR