
BEGIN:VCALENDAR
VERSION:2.0
PRODID:-//Danny Coots - ECPv4.0.4//NONSGML v1.0//EN
CALSCALE:GREGORIAN
METHOD:PUBLISH
X-WR-CALNAME:Danny Coots
X-ORIGINAL-URL:https://dannycoots.com
X-WR-CALDESC:Events for Danny Coots
BEGIN:VEVENT
DTSTART;TZID="UTC+0":20190621T210000
DTEND;TZID="UTC+0":20190621T210000
DTSTAMP:20260419T190358
CREATED:20190605T140233
LAST-MODIFIED:20190605T140233
UID:1470-1561150800-1561150800@dannycoots.com
SUMMARY:Megg Farrell Swing Dance
DESCRIPTION:
URL:https://dannycoots.com/event/megg-farrell-swing-dance
LOCATION:Charlotte\,Pk.\, Nashville\, TN\, 37204\, United States
END:VEVENT
END:VCALENDAR