
BEGIN:VCALENDAR
VERSION:2.0
PRODID:-//Danny Coots - ECPv4.0.4//NONSGML v1.0//EN
CALSCALE:GREGORIAN
METHOD:PUBLISH
X-WR-CALNAME:Danny Coots
X-ORIGINAL-URL:https://dannycoots.com
X-WR-CALDESC:Events for Danny Coots
BEGIN:VEVENT
DTSTART;VALUE=DATE:20190602
DTEND;VALUE=DATE:20190602
DTSTAMP:20260419T171417
CREATED:20190127
LAST-MODIFIED:20190127
UID:1375-1559433600-1559519999@dannycoots.com
SUMMARY:Lake of The Ozarks
DESCRIPTION:
URL:https://dannycoots.com/event/lake-of-the-ozarks
END:VEVENT
END:VCALENDAR