
BEGIN:VCALENDAR
VERSION:2.0
PRODID:-//Danny Coots - ECPv4.0.4//NONSGML v1.0//EN
CALSCALE:GREGORIAN
METHOD:PUBLISH
X-WR-CALNAME:Danny Coots
X-ORIGINAL-URL:https://dannycoots.com
X-WR-CALDESC:Events for Danny Coots
BEGIN:VEVENT
DTSTART;VALUE=DATE:20190726
DTEND;VALUE=DATE:20190728
DTSTAMP:20260419T153219
CREATED:20190128
LAST-MODIFIED:20190128
UID:1381-1564099200-1564358399@dannycoots.com
SUMMARY:Evergreen Jazz Festival Holland Coots Jazz Quintet
DESCRIPTION:
URL:https://dannycoots.com/event/evergreen-jazz-festival-holland-coots-jazz-quintet
LOCATION:Evergreen\, CO\, United States
END:VEVENT
END:VCALENDAR