
BEGIN:VCALENDAR
VERSION:2.0
PRODID:-//Danny Coots - ECPv4.0.4//NONSGML v1.0//EN
CALSCALE:GREGORIAN
METHOD:PUBLISH
X-WR-CALNAME:Danny Coots
X-ORIGINAL-URL:https://dannycoots.com
X-WR-CALDESC:Events for Danny Coots
BEGIN:VEVENT
DTSTART;TZID="UTC+0":20190609T170000
DTEND;TZID="UTC+0":20190609T200000
DTSTAMP:20260419T160403
CREATED:20190604T211556
LAST-MODIFIED:20190604T211556
UID:1465-1560099600-1560110400@dannycoots.com
SUMMARY:Dalts American Grill
DESCRIPTION:
URL:https://dannycoots.com/event/dalts-american-grill-47
LOCATION:38 White Bridge Rd\, Nashville\, TN
END:VEVENT
END:VCALENDAR