
BEGIN:VCALENDAR
VERSION:2.0
PRODID:-//Danny Coots - ECPv4.0.4//NONSGML v1.0//EN
CALSCALE:GREGORIAN
METHOD:PUBLISH
X-WR-CALNAME:Danny Coots
X-ORIGINAL-URL:http://dannycoots.com
X-WR-CALDESC:Events for Danny Coots
BEGIN:VEVENT
DTSTART;VALUE=DATE:20181116
DTEND;VALUE=DATE:20181118
DTSTAMP:20260420T071127
CREATED:20181114
LAST-MODIFIED:20181114
UID:1309-1542326400-1542585599@dannycoots.com
SUMMARY:West Coast Ragtime Festival
DESCRIPTION:
URL:http://dannycoots.com/event/west-coast-ragtime-festival-3
LOCATION:Sacramento \, CA\, United States
END:VEVENT
END:VCALENDAR