
BEGIN:VCALENDAR
VERSION:2.0
PRODID:-//Danny Coots - ECPv4.0.4//NONSGML v1.0//EN
CALSCALE:GREGORIAN
METHOD:PUBLISH
X-WR-CALNAME:Danny Coots
X-ORIGINAL-URL:http://dannycoots.com
X-WR-CALDESC:Events for Danny Coots
BEGIN:VEVENT
DTSTART;VALUE=DATE:20180810
DTEND;VALUE=DATE:20180812
DTSTAMP:20260420T070948
CREATED:20180117
LAST-MODIFIED:20180117
UID:1161-1533859200-1534118399@dannycoots.com
SUMMARY:Sutter Creek Ragtime Festival
DESCRIPTION:
URL:http://dannycoots.com/event/sutter-creek-ragtime-festival-3
LOCATION:CA\, United States
END:VEVENT
END:VCALENDAR