
BEGIN:VCALENDAR
VERSION:2.0
PRODID:-//Danny Coots - ECPv4.0.4//NONSGML v1.0//EN
CALSCALE:GREGORIAN
METHOD:PUBLISH
X-WR-CALNAME:Danny Coots
X-ORIGINAL-URL:http://dannycoots.com
X-WR-CALDESC:Events for Danny Coots
BEGIN:VEVENT
DTSTART;VALUE=DATE:20180530
DTEND;VALUE=DATE:20180602
DTSTAMP:20260422T090519
CREATED:20180117
LAST-MODIFIED:20180117
UID:1158-1527638400-1527983999@dannycoots.com
SUMMARY:Scott Joplin International Ragtime Festival
DESCRIPTION:
URL:http://dannycoots.com/event/scott-joplin-international-ragtime-festival
LOCATION:Sedalia\, MO\, United States
END:VEVENT
END:VCALENDAR