
BEGIN:VCALENDAR
VERSION:2.0
PRODID:-//Danny Coots - ECPv4.0.4//NONSGML v1.0//EN
CALSCALE:GREGORIAN
METHOD:PUBLISH
X-WR-CALNAME:Danny Coots
X-ORIGINAL-URL:http://dannycoots.com
X-WR-CALDESC:Events for Danny Coots
BEGIN:VEVENT
DTSTART;VALUE=DATE:20180616
DTEND;VALUE=DATE:20180616
DTSTAMP:20260422T091150
CREATED:20180520
LAST-MODIFIED:20180520
UID:1248-1529107200-1529193599@dannycoots.com
SUMMARY:Richland Place Nashville (Private Event)
DESCRIPTION:
URL:http://dannycoots.com/event/richland-place-nashville-private-event
END:VEVENT
END:VCALENDAR