
BEGIN:VCALENDAR
VERSION:2.0
PRODID:-//Danny Coots - ECPv4.0.4//NONSGML v1.0//EN
CALSCALE:GREGORIAN
METHOD:PUBLISH
X-WR-CALNAME:Danny Coots
X-ORIGINAL-URL:http://dannycoots.com
X-WR-CALDESC:Events for Danny Coots
BEGIN:VEVENT
DTSTART;VALUE=DATE:20180405
DTEND;VALUE=DATE:20180408
DTSTAMP:20260422T085203
CREATED:20171129
LAST-MODIFIED:20171129
UID:1124-1522886400-1523231999@dannycoots.com
SUMMARY:Redwood Coast Jazz Festival
DESCRIPTION:
URL:http://dannycoots.com/event/redwood-coast-jazz-festival
LOCATION:Eureka\, CA\, United States
END:VEVENT
END:VCALENDAR