
BEGIN:VCALENDAR
VERSION:2.0
PRODID:-//Danny Coots - ECPv4.0.4//NONSGML v1.0//EN
CALSCALE:GREGORIAN
METHOD:PUBLISH
X-WR-CALNAME:Danny Coots
X-ORIGINAL-URL:http://dannycoots.com
X-WR-CALDESC:Events for Danny Coots
BEGIN:VEVENT
DTSTART;TZID="UTC+0":20180411T193000
DTEND;TZID="UTC+0":20180411T193000
DTSTAMP:20260422T091355
CREATED:20180320T011754
LAST-MODIFIED:20180320T011754
UID:1214-1523475000-1523475000@dannycoots.com
SUMMARY:MTSU Howard Alden- Chip Henderson
DESCRIPTION:
URL:http://dannycoots.com/event/mtsu-howard-alden-chip-henderson
END:VEVENT
END:VCALENDAR