
BEGIN:VCALENDAR
VERSION:2.0
PRODID:-//Danny Coots - ECPv4.0.4//NONSGML v1.0//EN
CALSCALE:GREGORIAN
METHOD:PUBLISH
X-WR-CALNAME:Danny Coots
X-ORIGINAL-URL:http://dannycoots.com
X-WR-CALDESC:Events for Danny Coots
BEGIN:VEVENT
DTSTART;VALUE=DATE:20181026
DTEND;VALUE=DATE:20181028
DTSTAMP:20260420T071405
CREATED:20180117
LAST-MODIFIED:20180117
UID:1169-1540512000-1540771199@dannycoots.com
SUMMARY:Jubilee By The Sea Pismo Beach\, CA
DESCRIPTION:
URL:http://dannycoots.com/event/jubilee-by-the-sea-pismo-beach-ca-3
LOCATION:Pismo Beach\,CA\, United States
END:VEVENT
END:VCALENDAR