
BEGIN:VCALENDAR
VERSION:2.0
PRODID:-//Danny Coots - ECPv4.0.4//NONSGML v1.0//EN
CALSCALE:GREGORIAN
METHOD:PUBLISH
X-WR-CALNAME:Danny Coots
X-ORIGINAL-URL:http://dannycoots.com
X-WR-CALDESC:Events for Danny Coots
BEGIN:VEVENT
DTSTART;VALUE=DATE:20180301
DTEND;VALUE=DATE:20180305
DTSTAMP:20260420T083839
CREATED:20171129
LAST-MODIFIED:20171129
UID:1123-1519862400-1520294399@dannycoots.com
SUMMARY:Jazz Bash By The Bay\,  Monterey\, CA
DESCRIPTION:
URL:http://dannycoots.com/event/jazz-bash-by-the-bay-monterey-ca-3
LOCATION:Monterey\, CA\, United States
END:VEVENT
END:VCALENDAR