
BEGIN:VCALENDAR
VERSION:2.0
PRODID:-//Danny Coots - ECPv4.0.4//NONSGML v1.0//EN
CALSCALE:GREGORIAN
METHOD:PUBLISH
X-WR-CALNAME:Danny Coots
X-ORIGINAL-URL:http://dannycoots.com
X-WR-CALDESC:Events for Danny Coots
BEGIN:VEVENT
DTSTART;VALUE=DATE:20181005
DTEND;VALUE=DATE:20181015
DTSTAMP:20260420T071243
CREATED:20180117
LAST-MODIFIED:20180117
UID:1167-1538697600-1539647999@dannycoots.com
SUMMARY:Jazz Alive Cruise Jazzdagen
DESCRIPTION:
URL:http://dannycoots.com/event/jazz-alive-cruise-jazzdagen
LOCATION:CA\, United States
END:VEVENT
END:VCALENDAR