
BEGIN:VCALENDAR
VERSION:2.0
PRODID:-//Danny Coots - ECPv4.0.4//NONSGML v1.0//EN
CALSCALE:GREGORIAN
METHOD:PUBLISH
X-WR-CALNAME:Danny Coots
X-ORIGINAL-URL:http://dannycoots.com
X-WR-CALDESC:Events for Danny Coots
BEGIN:VEVENT
DTSTART;VALUE=DATE:20180420
DTEND;VALUE=DATE:20180420
DTSTAMP:20260420T084810
CREATED:20180117
LAST-MODIFIED:20180117
UID:1154-1524182400-1524268799@dannycoots.com
SUMMARY:Hot Sauce Concerts Poolsville\, MD
DESCRIPTION:
URL:http://dannycoots.com/event/hot-sauce-concerts-poolsville-md
LOCATION:Poolsville\, MD\, United States
END:VEVENT
END:VCALENDAR