
BEGIN:VCALENDAR
VERSION:2.0
PRODID:-//Danny Coots - ECPv4.0.4//NONSGML v1.0//EN
CALSCALE:GREGORIAN
METHOD:PUBLISH
X-WR-CALNAME:Danny Coots
X-ORIGINAL-URL:http://dannycoots.com
X-WR-CALDESC:Events for Danny Coots
BEGIN:VEVENT
DTSTART;VALUE=DATE:20180831
DTEND;VALUE=DATE:20180903
DTSTAMP:20260420T071540
CREATED:20180117
LAST-MODIFIED:20180117
UID:1163-1535673600-1536019199@dannycoots.com
SUMMARY:Hot Jazz Festival\, Sacramento\, CA
DESCRIPTION:
URL:http://dannycoots.com/event/hot-jazz-festival-sacramento-ca-3
LOCATION:Sacramento\, CA\, United States
END:VEVENT
END:VCALENDAR