
BEGIN:VCALENDAR
VERSION:2.0
PRODID:-//Danny Coots - ECPv4.0.4//NONSGML v1.0//EN
CALSCALE:GREGORIAN
METHOD:PUBLISH
X-WR-CALNAME:Danny Coots
X-ORIGINAL-URL:http://dannycoots.com
X-WR-CALDESC:Events for Danny Coots
BEGIN:VEVENT
DTSTART;VALUE=DATE:20180715
DTEND;VALUE=DATE:20180715
DTSTAMP:20260420T071606
CREATED:20180320
LAST-MODIFIED:20180320
UID:1217-1531612800-1531699199@dannycoots.com
SUMMARY:Hot Club Of Nashville City Winery
DESCRIPTION:
URL:http://dannycoots.com/event/hot-club-of-nashville-city-winery
END:VEVENT
END:VCALENDAR