
BEGIN:VCALENDAR
VERSION:2.0
PRODID:-//Danny Coots - ECPv4.0.4//NONSGML v1.0//EN
CALSCALE:GREGORIAN
METHOD:PUBLISH
X-WR-CALNAME:Danny Coots
X-ORIGINAL-URL:http://dannycoots.com
X-WR-CALDESC:Events for Danny Coots
BEGIN:VEVENT
DTSTART;VALUE=DATE:20180418
DTEND;VALUE=DATE:20180430
DTSTAMP:20260420T084631
CREATED:20171129
LAST-MODIFIED:20171129
UID:1125-1524009600-1525132799@dannycoots.com
SUMMARY:Holland/Coots East Coast Tour
DESCRIPTION:
URL:http://dannycoots.com/event/hollandcoots-east-coast-tour
END:VEVENT
END:VCALENDAR