
BEGIN:VCALENDAR
VERSION:2.0
PRODID:-//Danny Coots - ECPv4.0.4//NONSGML v1.0//EN
CALSCALE:GREGORIAN
METHOD:PUBLISH
X-WR-CALNAME:Danny Coots
X-ORIGINAL-URL:http://dannycoots.com
X-WR-CALDESC:Events for Danny Coots
BEGIN:VEVENT
DTSTART;TZID="UTC+0":20180421T190000
DTEND;TZID="UTC+0":20180421T190000
DTSTAMP:20260422T090537
CREATED:20180315T232334
LAST-MODIFIED:20180315T232334
UID:1202-1524337200-1524337200@dannycoots.com
SUMMARY:Holland & Coots House Concert - Lancaster\, PA
DESCRIPTION:
URL:http://dannycoots.com/event/holland-coots-house-concert-lancaster-pa
LOCATION:Lancaster\, PA\, United States
ORGANIZER;CN="Bill%20Hoffman":MAILTO:billhoffman47@gmail.com
END:VEVENT
END:VCALENDAR