
BEGIN:VCALENDAR
VERSION:2.0
PRODID:-//Danny Coots - ECPv4.0.4//NONSGML v1.0//EN
CALSCALE:GREGORIAN
METHOD:PUBLISH
X-WR-CALNAME:Danny Coots
X-ORIGINAL-URL:http://dannycoots.com
X-WR-CALDESC:Events for Danny Coots
BEGIN:VEVENT
DTSTART;VALUE=DATE:20180209
DTEND;VALUE=DATE:20180211
DTSTAMP:20260420T094700
CREATED:20180117
LAST-MODIFIED:20180117
UID:1151-1518134400-1518393599@dannycoots.com
SUMMARY:Daniel Souvigny pianist private event
DESCRIPTION:
URL:http://dannycoots.com/event/daniel-souvigny-pianist-private-event
END:VEVENT
END:VCALENDAR