
BEGIN:VCALENDAR
VERSION:2.0
PRODID:-//Danny Coots - ECPv4.0.4//NONSGML v1.0//EN
CALSCALE:GREGORIAN
METHOD:PUBLISH
X-WR-CALNAME:Danny Coots
X-ORIGINAL-URL:http://dannycoots.com
X-WR-CALDESC:Events for Danny Coots
BEGIN:VEVENT
DTSTART;TZID="UTC+0":20181202T170000
DTEND;TZID="UTC+0":20181202T200000
DTSTAMP:20260420T065911
CREATED:20181122T233226
LAST-MODIFIED:20181122T233226
UID:1320-1543770000-1543780800@dannycoots.com
SUMMARY:Dalts American Grill
DESCRIPTION:
URL:http://dannycoots.com/event/dalts-american-grill-34
LOCATION:38 White Bridge Rd\, Nashville\, TN
END:VEVENT
END:VCALENDAR