
BEGIN:VCALENDAR
VERSION:2.0
PRODID:-//Danny Coots - ECPv4.0.4//NONSGML v1.0//EN
CALSCALE:GREGORIAN
METHOD:PUBLISH
X-WR-CALNAME:Danny Coots
X-ORIGINAL-URL:http://dannycoots.com
X-WR-CALDESC:Events for Danny Coots
BEGIN:VEVENT
DTSTART;TZID="UTC+0":20180401T050000
DTEND;TZID="UTC+0":20180401T200000
DTSTAMP:20260422T091808
CREATED:20180320T011246
LAST-MODIFIED:20180320T011246
UID:1213-1522558800-1522612800@dannycoots.com
SUMMARY:Dalts American Grill
DESCRIPTION:
URL:http://dannycoots.com/event/dalts-american-grill-26
LOCATION:38 White Bridge Rd\, Nashville\, TN
END:VEVENT
END:VCALENDAR