
BEGIN:VCALENDAR
VERSION:2.0
PRODID:-//Danny Coots - ECPv4.0.4//NONSGML v1.0//EN
CALSCALE:GREGORIAN
METHOD:PUBLISH
X-WR-CALNAME:Danny Coots
X-ORIGINAL-URL:http://dannycoots.com
X-WR-CALDESC:Events for Danny Coots
BEGIN:VEVENT
DTSTART;TZID="UTC+0":20180325T170500
DTEND;TZID="UTC+0":20180325T170500
DTSTAMP:20260420T084636
CREATED:20180320T010946
LAST-MODIFIED:20180320T010946
UID:1212-1521997500-1521997500@dannycoots.com
SUMMARY:Dalts American Grill
DESCRIPTION:
URL:http://dannycoots.com/event/dalts-american-grill-25
LOCATION:38 White Bridge Rd\, Nashville\, TN
END:VEVENT
END:VCALENDAR