
BEGIN:VCALENDAR
VERSION:2.0
PRODID:-//Danny Coots - ECPv4.0.4//NONSGML v1.0//EN
CALSCALE:GREGORIAN
METHOD:PUBLISH
X-WR-CALNAME:Danny Coots
X-ORIGINAL-URL:http://dannycoots.com
X-WR-CALDESC:Events for Danny Coots
BEGIN:VEVENT
DTSTART;TZID="UTC+0":20171203T170000
DTEND;TZID="UTC+0":20171203T200000
DTSTAMP:20260422T104555
CREATED:20171129T181138
LAST-MODIFIED:20171129T181138
UID:1111-1512320400-1512331200@dannycoots.com
SUMMARY:Dalts American Grill
DESCRIPTION:
URL:http://dannycoots.com/event/dalts-american-grill-18
LOCATION:38 White Bridge Rd\, Nashville\, TN
END:VEVENT
END:VCALENDAR