
BEGIN:VCALENDAR
VERSION:2.0
PRODID:-//Danny Coots - ECPv4.0.4//NONSGML v1.0//EN
CALSCALE:GREGORIAN
METHOD:PUBLISH
X-WR-CALNAME:Danny Coots
X-ORIGINAL-URL:http://dannycoots.com
X-WR-CALDESC:Events for Danny Coots
BEGIN:VEVENT
DTSTART;TZID="UTC+0":20181207T193000
DTEND;TZID="UTC+0":20181207T220000
DTSTAMP:20260420T071201
CREATED:20181122T233720
LAST-MODIFIED:20181122T233720
UID:1321-1544211000-1544220000@dannycoots.com
SUMMARY:Christensen concert Series Holland/Coots
DESCRIPTION:
URL:http://dannycoots.com/event/christensen-concert-series-hollandcoots
LOCATION:Houston\, TX\, United States
END:VEVENT
END:VCALENDAR