
BEGIN:VCALENDAR
VERSION:2.0
PRODID:-//Danny Coots - ECPv4.0.4//NONSGML v1.0//EN
CALSCALE:GREGORIAN
METHOD:PUBLISH
X-WR-CALNAME:Danny Coots
X-ORIGINAL-URL:http://dannycoots.com
X-WR-CALDESC:Events for Danny Coots
BEGIN:VEVENT
DTSTART;VALUE=DATE:20181219
DTEND;VALUE=DATE:20181221
DTSTAMP:20260420T064826
CREATED:20181122
LAST-MODIFIED:20181122
UID:1326-1545177600-1545436799@dannycoots.com
SUMMARY:Big Bad Rhythm Record Session
DESCRIPTION:
URL:http://dannycoots.com/event/big-bad-rhythm-record-session
LOCATION:909 Knox Ave\, Nashville\, TN\, 37204
ORGANIZER;CN="Unnamed%20Organizer":MAILTO:Danny.coots@gmail.com
END:VEVENT
END:VCALENDAR