
BEGIN:VCALENDAR
VERSION:2.0
PRODID:-//Danny Coots - ECPv4.0.4//NONSGML v1.0//EN
CALSCALE:GREGORIAN
METHOD:PUBLISH
X-WR-CALNAME:Danny Coots
X-ORIGINAL-URL:http://dannycoots.com
X-WR-CALDESC:Events for Danny Coots
BEGIN:VEVENT
DTSTART;VALUE=DATE:20180925
DTEND;VALUE=DATE:20180925
DTSTAMP:20260420T071115
CREATED:20180117
LAST-MODIFIED:20180117
UID:1166-1537833600-1537919999@dannycoots.com
SUMMARY:An Die Musik LIVE in Baltimore
DESCRIPTION:
URL:http://dannycoots.com/event/an-die-musik-live-in-baltimore
LOCATION:Baltimore\, MD\, United States
END:VEVENT
END:VCALENDAR