
BEGIN:VCALENDAR
VERSION:2.0
PRODID:-//Danny Coots - ECPv4.0.4//NONSGML v1.0//EN
CALSCALE:GREGORIAN
METHOD:PUBLISH
X-WR-CALNAME:Danny Coots
X-ORIGINAL-URL:http://dannycoots.com
X-WR-CALDESC:Events for Danny Coots
BEGIN:VEVENT
DTSTART;VALUE=DATE:20180802
DTEND;VALUE=DATE:20180904
DTSTAMP:20260420T071422
CREATED:20180117
LAST-MODIFIED:20180117
UID:1162-1533168000-1536105599@dannycoots.com
SUMMARY:6th Annual Holland-Coots California Tour
DESCRIPTION:
URL:http://dannycoots.com/event/6th-annual-holland-coots-california-tour
END:VEVENT
END:VCALENDAR